BEGIN:VCALENDAR
VERSION:2.0
PRODID:-//wp-events-plugin.com//7.2.3.1//EN
TZID:Europe/Ljubljana
X-WR-TIMEZONE:Europe/Ljubljana
BEGIN:VEVENT
UID:68@ezs-zveza.si
DTSTART;TZID=Europe/Ljubljana:20231214T150000
DTEND;TZID=Europe/Ljubljana:20231214T170000
DTSTAMP:20231212T073356Z
URL:https://www.ezs-zveza.si/en/dogodek/women-for-climate/
SUMMARY:Women For Climate
DESCRIPTION:EUREL vabi k udeležbi na spletni seminar\, ki se osredotoča n
 a dosežke\, izzive in priložnosti za ženske na področju električne in
  energetske industrije.\n\nSeminar bo potekal v angleškem jeziku.\n\nDogo
 dek je brezplačen.\nVeč o seminarju\n\n\n\nOE\, Ordem dos Engenheiros in
  Portugal and EUREL kindly invites everyone who wants to listen and enga
 ge to inspiring women for climate.\n\nWe bring together distinguished prof
 essionals and experts to create an engaging platform for powerful discussi
 ons\, knowledge sharing\, and inspiration on following topics:\n\n 	Perspe
 ctives on the energy transition - everything starts with a rock - Karen 
 Hanghøj (General Director of the British Geological Survey)\n 	Building 
 a resilient and carbon neutral energy systems - Iva Brkic (Program Offi
 cer for Sustainable Energy at UNECE)\n 	Not weakness\, but strength: the 
 role of listening in building relationships and effecting change - Julie
  Hollis (Secretary General of EuroGeoSurveys)\n 	Building women's capacit
 y for Climate Action - Maria da Graça Carvalho (Member of the European P
 arliament)\n 	Women in Energy: from oil to renewable - Maria João C.P. R
 olim (Partner of Rolim Goulart Cardoso\, Lawyer\, and Economist)\n\nModera
 tion by Teresa Ponce de Leão (Chair of Excutive Board LNEG)\n\nVabilo s
  programom\n\nPrijava na dogodek (spletna stran za prijavo je v nemškem j
 eziku)\n\nLepo vabljeni!\n\n\n
ATTACH;FMTTYPE=image/jpeg:https://www.ezs-zveza.si/wp-content/uploads/2023
 /03/photovoltaic-g939902345_640.jpg
CATEGORIES:Webinar
END:VEVENT
BEGIN:VTIMEZONE
TZID:Europe/Ljubljana
X-LIC-LOCATION:Europe/Ljubljana
BEGIN:STANDARD
DTSTART:20231029T020000
TZOFFSETFROM:+0200
TZOFFSETTO:+0100
TZNAME:CET
END:STANDARD
END:VTIMEZONE
END:VCALENDAR