BEGIN:VCALENDAR
VERSION:2.0
PRODID:-//wp-events-plugin.com//7.2.3.1//EN
TZID:Europe/Ljubljana
X-WR-TIMEZONE:Europe/Ljubljana
BEGIN:VEVENT
UID:51@ezs-zveza.si
DTSTART;TZID=Europe/Ljubljana:20230327T090000
DTEND;TZID=Europe/Ljubljana:20230327T150000
DTSTAMP:20230314T122854Z
URL:https://www.ezs-zveza.si/en/dogodek/smart-mobility-and-digitalisation-
 of-transport/
SUMMARY:»SMART MOBILITY AND DIGITALISATION OF TRANSPORT«
DESCRIPTION:The theme of the 2023 Symposium is “SMART MOBILITY AND DIGITA
 LISATION OF TRANSPORT”. This theme brings focus to the importance of rec
 ent activities in the area of an innovative mobility system that performs 
 efficiently with the aid if new technologies and to benefit all economic\,
  social and environmental aspects.\n\nMore information and registration
ATTACH;FMTTYPE=image/jpeg:https://www.ezs-zveza.si/wp-content/uploads/2023
 /03/ISEP_2023.jpg
CATEGORIES:Syposium
END:VEVENT
BEGIN:VTIMEZONE
TZID:Europe/Ljubljana
X-LIC-LOCATION:Europe/Ljubljana
BEGIN:DAYLIGHT
DTSTART:20230326T030000
TZOFFSETFROM:+0100
TZOFFSETTO:+0200
TZNAME:CEST
END:DAYLIGHT
END:VTIMEZONE
END:VCALENDAR