BEGIN:VCALENDAR
VERSION:2.0
PRODID:-//wp-events-plugin.com//7.2.3.1//EN
TZID:Europe/Ljubljana
X-WR-TIMEZONE:Europe/Ljubljana
BEGIN:VEVENT
UID:81@ezs-zveza.si
DTSTART;TZID=Europe/Ljubljana;VALUE=DATE:20241002
DTEND;TZID=Europe/Ljubljana;VALUE=DATE:20241005
DTSTAMP:20240514T093105Z
URL:https://www.ezs-zveza.si/en/dogodek/midem-2024/
SUMMARY:MIDEM 2024
DESCRIPTION:59th INTERNATIONAL CONFERENCE ON MICROELECTRONICS\, DEVICES AND
  MATERIALS WITH THE WORKSHOP ON ELECTROMAGNETIC COMPATIBILITY: FROM THEORY
  TO PRACTICE\n&nbsp\;\n\nThe 59th International Conference on MIcroelectro
 nics\, DEvices and Materials\, MIDEM 2024\, continues the tradition of ann
 ual international conferences organized by the MIDEM Society. These confer
 ences have always attracted a large number of Slovene and foreign experts 
 working in these fields.\n\nThe topics covered by the conference are quite
  diverse\, and presenting about 60 papers in five sessions over three days
  seems rather demanding. However\, once a year scientists and engineers ha
 ve the opportunity to present their work to the international public and t
 o meet and discuss trends\, news and problems related to their field of wo
 rk. We believe that this at least balances the effort required by the atte
 ndees and the organizer.\n\nThe conference is well known in the electronic
 s community. Hundreds of distinguished scientists from all over the world 
 have taken part in previous MIDEM conferences. The goal of establishing co
 ntacts\, collaboration and friendship among scientists and their companies
  remains the main aim for the organizer.\n\nThe conference and the Worksho
 p will be held at Rimske Terme\, Rimske Toplice\, Slovenia from OCTOBER 2n
 d – 4th\, 2024.
ATTACH;FMTTYPE=image/jpeg:https://www.ezs-zveza.si/wp-content/uploads/2024
 /05/midem.jpg
LOCATION:Rimske terme\, Toplice 10\, Rimske Toplice\, 3272\, Slovenia
X-APPLE-STRUCTURED-LOCATION;VALUE=URI;X-ADDRESS=Toplice 10\, Rimske Toplice
 \, 3272\, Slovenia;X-APPLE-RADIUS=100;X-TITLE=Rimske terme:geo:0,0
END:VEVENT
BEGIN:VTIMEZONE
TZID:Europe/Ljubljana
X-LIC-LOCATION:Europe/Ljubljana
BEGIN:DAYLIGHT
DTSTART:20240331T030000
TZOFFSETFROM:+0100
TZOFFSETTO:+0200
TZNAME:CEST
END:DAYLIGHT
END:VTIMEZONE
END:VCALENDAR