BEGIN:VCALENDAR
VERSION:2.0
PRODID:-//wp-events-plugin.com//7.2.3.1//EN
TZID:Europe/Ljubljana
X-WR-TIMEZONE:Europe/Ljubljana
BEGIN:VEVENT
UID:107@ezs-zveza.si
DTSTART;TZID=Europe/Ljubljana:20250925T100000
DTEND;TZID=Europe/Ljubljana:20250925T133000
DTSTAMP:20250828T094518Z
URL:https://www.ezs-zveza.si/dogodek/vzdrzevanje-naprav-in-premozenja-zaka
 j-in-kako-3/
SUMMARY:Vzdrževanje naprav in premoženja: zakaj in kako
DESCRIPTION:\nVabimo vas k udeležbi na spletnem seminarju\, ki ga prirejam
 o EZS in SIST v četrtek 25. septembra od 10.00 do 13.30 ure.\n\n\n\n\nVab
 ilo s prijavnico\n\n\n\n\nElektronska prijava\n&nbsp\;\nUvod\n\n\n\nOdgovo
 rnost vsake organizacije\, ki se ukvarja z vzdrževanjem\, je opredeliti s
 trategijo vzdrževanja v skladu z naslednjimi glavnimi cilji:a) zagotoviti
  razpoložljivost naprave za zahtevano delovanje ob optimalnih stroških\,
 b) upoštevati varnost\, osebje\, okolje in vse druge obvezne zahteve\, po
 vezane s to napravo\,c) upoštevati vsakršen vpliv na okolje\,d) ob upoš
 tevanju stroškov podpirati trajnost naprave in/ali kakovost proizvoda ali
  storitve\, ki jo nudi.\n\n\n\nKakovostno vzdrževane naprave pomenijo za 
 lastnika njihovo uporabo z najmanjšimi motnjami. Posledično so zato stro
 ški nižji\, zagotovljena je zanesljivost in dolga življenjska doba. Pre
 dstavljeni bodo standardi za vzdrževanje\, ki prinašajo nekatere bistven
 e prvine\, kako vzdrževati in ohranjati naprave in drugo premoženje v do
 bri kondiciji. Poudariti je treba potrebo po celostnem načrtovanju in gra
 dnji novih naprav in objektov\, ki vključuje zahteve za varnost\, ekonoms
 ko in okoljsko učinkovitost\, stroške vzdrževanja v življenjski dobi i
 n zanesljivost uporabe. Vsi navedeni standardi bodo dostopni v slovenskem 
 jeziku.\n\n\n\nPredstavitev je namenjena:\n\n\n\n\nvodstvenim kadrom\,\n\n
 \n\nvodjem vzdrževanja\,\n\n\n\nprojektantom\,\n\n\n\nizvajalcem gradbeni
 h in elektromontažnih del\, odgovornim vodjem del\,\n\n\n\nnadzornim inž
 enirjem\,\n\n\n\nizdelovalcem navodil za vzdrževanje in obratovanje\,\n\n
 \n\nčlanom IZS\, matične sekcije elektroinženirjev\,\n\n\n\ninšpektorj
 em\,\n\n\n\ndrugim zainteresiranim.\n\n\n\n\nKaj boste pridobili z udelež
 bo?\n\n\n\nPredstavljena bo vsebina in bistvene zahteve standardov\, razlo
 žen bo pomen posameznih izrazov\, podan bo osnovni pregled\, kaj standard
 i sploh vsebujejo\, kakšne so novosti pri obnovljenih standardih in kater
 e zahteve so bistvene za proces vzdrževanja.\n\n\n\nUdeleženci boste pre
 jeli original standard SIST EN 15341:2019+A1:2022 - Vzdrževanje - Ključn
 i kazalniki učinkovitosti in uspešnosti vzdrževanja\, in sicer v papirn
 i obliki (angleški jezik).\n\n\n\nProgram\n\n\n\n\n\n\n\n10.00\nPozdrav o
 rganizatorja\n\n\n10.05 - 11.30\nObvladovanje premoženja- pregled\, nače
 la in terminologija- sistemi vodenja - zahteve- upravljanje sistemov\n\n\n
 11.30 - 11.45\nOdmor\n\n\n11.45 - 13.15\nVzdrževanje naprav- termonilogij
 a s področja vzdrževanja- ključni kazalniki učinkovitosti in uspešnos
 ti vzdrževanja- dokumentacija za vzdrževanje- kvalificiranje vzdrževalc
 ev\n\n\n13.15 - 13.30\nVprašanja in odgovori\n\n\n\n\n\n\n\n\nVabilo s pr
 ijavnico\n\n\n\n\nElektronska prijava\n&nbsp\;\nIzvajalca\n\n\n\nSeminar b
 osta izvedla Lojze Zupanc in prof. dr. Jože Pihler.\n\n\n\nLojze Zupanc\,
  dipl. inž. el.\n\n\n\nŠtudij je opravil na Fakulteti za elektrotehniko 
 in računalništvo v Mariboru. Do upokojitve leta 2007 je bil zaposlen v p
 odjetju Elektro Gorenjska\, d. d. Delo je začel v tehniški dokumentaciji
 \, nadaljeval osemnajst let v oddelku za investicije kot pooblaščeni in
 ženir\, nato osem let kot vodja oddelka za obratovanje\, od leta 2001 kot
  izvršni direktor enote distribucije in zadnje leto pred upokojitvijo kot
  svetovalec uprave za energetske zadeve. Na nivoju Gospodarskega interesne
 ga združenja elektrodistribucijskih podjetij je vodil skupini za tehničn
 e zadeve in skupine za ustanovitev podjetja SODO. Po upokojitvi je postal 
 sodelavec Elektrotehniške zveze Slovenije kot sekretar za tehnične predp
 ise. Vodi strokovne skupine za pripravo posameznega predloga predpisa\, ki
  ga pristojno ministrstvo objavi v Uradnem listu RS. Področje dela so pra
 vilniki in uredbe s področja elektroenergetike\, elektromagnetnih polj\, 
 električnih inštalacij in zaščite pred strelo. Med naloge sodi iskanje
  prevajalcev in delo na terminološkem področju. Sodeluje z Zvezo društe
 v energetikov Slovenije kot predavatelj dveh strokovnih predmetov za uprav
 ljavce energetskih naprav in kot izpraševalec na izpitih. Tri leta je bil
  član strokovnega sveta Agencije za energijo\, štiri leta pa predsednik 
 sveta Lokalne energetske agencije Gorenjske. Ljubiteljsko se ukvarja s če
 belarstvom in delom v Čebelarskem društvu Besnica\, kjer je bil dvanajst
  let predsednik.\n\n\n\nprof. dr. Jože Pihler\n\n\n\nDiplomiral je na Uni
 verzi v Mariboru\, na Fakulteti za elektrotehniko\, računalništvo in inf
 ormatiko (FERI). 10 let je bil zaposlen v Tovarni stikalnih naprav\, d. o.
  o.\, v Mariboru kot raziskovalec\, vodja stikalnih aparatov\, vodja kontr
 ole kakovosti in direktor. Od leta 1988 je deloval na FERI v Mariboru\, kj
 er je leta 1995 doktoriral\, 2006 pa postal redni profesor. Bil je vodja L
 aboratorija za energetiko. V močnostnem laboratoriju zavoda ICEM-TC je st
 rokovni vodja\, julija 2021 pa se je upokojil. Pedagoško in raziskovalno 
 delo je opravljal s področja elektroenergetike. Pridobljene izkušnje je 
 prenašal na študente na predavanjih in pri mentorstvih številnim štude
 ntom pri doktorskih\, magistrskih in diplomskih nalogah. Njegova bibliogra
 fija obsega preko 900 prispevkov\, in sicer znanstvenih člankov v revijah
 \, prispevkov na konferencah in drugo.Vodil ali sodeloval je pri 33 stroko
 vnih študijah\, kjer izstopata področji upravljanja z energijo in vzdrž
 evanje. Sodeloval je z mnogimi domačimi in tujimi organizacijami\, fakult
 etami ter gospodarstveniki. Je član IEEE\, deluje v mednarodni in naciona
 lni standardizaciji (IEC in SIST) kot član delovnih skupin in tehničnih 
 odborov na področju terminologije in varovalk. Sodeluje z Elektrotehnišk
 o zvezo Slovenije pri prevodu standardov. Že dolga leta aktivno sodeluje 
 tudi v slovenskem združenju CIGRE\, kjer je trenutno član predsedstva CI
 GRE- CIRED in predsednik ŠK C4.\n\n\n\n\nVabilo s prijavnico\n\n\n\n\nEle
 ktronska prijava\n&nbsp\;\nČlani EZS imate pri prijavi 20% popusta pri ko
 tizaciji.Ponujamo tudi 30 % popusta za podjetja\, ki prijavijo več kot dv
 a zaposlena.\n
ATTACH;FMTTYPE=image/jpeg:https://www.ezs-zveza.si/wp-content/uploads/2023
 /01/ehmitrich-y4aUBTWgzgQ-unsplash.jpg
CATEGORIES:EZS akademija
END:VEVENT
BEGIN:VTIMEZONE
TZID:Europe/Ljubljana
X-LIC-LOCATION:Europe/Ljubljana
BEGIN:DAYLIGHT
DTSTART:20250330T030000
TZOFFSETFROM:+0100
TZOFFSETTO:+0200
TZNAME:CEST
END:DAYLIGHT
END:VTIMEZONE
END:VCALENDAR