BEGIN:VCALENDAR
VERSION:2.0
PRODID:-//wp-events-plugin.com//7.2.3.1//EN
TZID:Europe/Ljubljana
X-WR-TIMEZONE:Europe/Ljubljana
BEGIN:VEVENT
UID:90@ezs-zveza.si
DTSTART;TZID=Europe/Ljubljana:20251006T081500
DTEND;TZID=Europe/Ljubljana:20251010T190000
DTSTAMP:20250113T114243Z
URL:https://www.ezs-zveza.si/dogodek/pripravljalni-seminar-za-strokovni-iz
 pit-iz-elektrotehniske-stroke-oktober-2025/
SUMMARY:Pripravljalni seminar za strokovni izpit iz elektrotehniške stroke
 \, oktober 2025
DESCRIPTION:\nVse zainteresirane delovne organizacije\, obrtnike in posamez
 nike obveščamo\, da EZS organizira seminarje za pripravo na strokovni iz
 pit iz elektro stroke\, ki ga morajo po Gradbenem zakonu GZ-1 (Uradni list
  RS\, št. 199/21\, 19. člen) in Zakonu o arhitekturni in inženirski dej
 avnosti (Uradni list RS\, št. 61/17\, 10.člen) opraviti vsi delavci\, ki
  izdelujejo tehnično dokumentacijo\, vodijo in izvajajo nadzor nad deli.\
 n\n\n\nSeminar vključuje izpitna programa za:\n\n\n\n\nPooblaščene inž
 enirje elektro stroke (za kandidate\, ki imajo končano najmanj drugo bolo
 njsko stopnjo elektrotehnike oziroma univerzitetni diplomirani inženir el
 ektrotehnike\, in za kandidate\, ki izpolnjujejo pogoje po 58. členu Zako
 na o arhitekturni in inženirski dejavnosti).\n\n\n\nVodje del za področj
 e elektrotehniške stroke (za kandidate\, ki izpolnjujejo pogoje izobrazbe
  elektrotehniške stroke za izvajalce po 4. točki prve in druge alineje 1
 4. člena Gradbenega zakona).\n\n\n\n\nZa pripravljalne seminarje in strok
 ovne izpite za elektro stroko v letu 2024 so razpisani naslednji termini:\
 n\n\n\n\n\n\n\nPripravljalna seminarja\nIzpiti\n\n\n10. - 14. 3. 2025\n14.
  5. 2025 (po potrebi še 13. 5. 2025)\n\n\n6. - 10. 10. 2025\n3. 12. 2025 
 (po potrebi še 4. 12. 2025)\n\n\n\n\n\n\n\nSeminar za pripravo na strokov
 ni izpit\n\n\n\nPripravljalni seminarji bodo potekali v »Hotelu Paka«\, 
 Rudarska cesta 1\, 3320 Velenje\, telefon 03 8980 700\, e-pošta: info@hot
 elpaka.com. V kolikor boste v hotelu prenočevali\, priporočamo pravočas
 no rezervacijo.\n\n\n\nPripravljalni seminar traja 5 dni. Udeleženci prej
 mejo gradivo za pripravo na strokovni izpit\, ki ga lahko prevzamejo 3 dni
  pred začetkom seminarja v pisarni Elektrotehniške zveze Slovenije v Lju
 bljani\, Stegne 7. Cena za udeležbo na pripravljalnem seminarju je 980\,0
 0 € (brez prometnega davka). V ceno so vključena organizacija\, predava
 nja in gradivo. Za kandidate\, ki želijo poslušati posamezna predavanja 
 v okviru seminarjev je cena za posamezno predavanje 70\,00 € (brez prome
 tnega davka).Cena prenočitve ni vključena in jo plača vsak udeleženec 
 sam.\n\n\n\nSeminar organiziramo za najmanj 20 oziroma za največ 50 oseb.
 \n\n\n\n\nPRIJAVNICA za pripravljalni seminar\n\n\n\n\n&nbsp\;\nPrijavnico
  za udeležbo na seminarju pošljite najkasneje 7 dni pred začetkom semin
 arja po:\n\n\n\n\nelektronski pošti na e-naslov info.tajnistvo@ezs-zveza.
 si ali vanja.osenar@ezs-zveza.si\, ali\n\n\n\npo navadni pošti na naslov:
  Elektrotehniška zveza Slovenije\, Stegne 7\, 1521 Ljubljana\, ali\n\n\n\
 npo faksu na številko: 01/511 30 04.\n\n\n\n\n\n\nStrokovni izpit\n\n\n\n
 opravljate pri Inženirski zbornici Slovenije\, Jarška 10 b\, Ljubljana\,
  telefon 01/547 33 15. Prijavnico k strokovnemu izpitu dobite na spletni s
 trani Inženirske zbornice Slovenije.\n\n\n\nPodrobne informacije\n\n\n\nE
 lektrotehniška zveza Slovenije\, Vanja Osenar\, Ljubljana\, Stegne 7Telef
 on : (01) 511 30 00\, fax (01) 511 30 04 E-pošta : info.tajnistvo@ezs-zve
 za.si\, vanja.osenar@ezs-zveza.si Uradne ure pri EZS: ponedeljek – petek
 : od 8. do 12. ure.\n\n\n\n\nPRIJAVNICA za pripravljalni seminar\n\n
ATTACH;FMTTYPE=image/jpeg:https://www.ezs-zveza.si/wp-content/uploads/2022
 /11/building-gecad72ce5_1920.jpg
CATEGORIES:EZS akademija
LOCATION:Hotel PAKA\, Rudarska cesta 1\, Velenje\, Slovenia
X-APPLE-STRUCTURED-LOCATION;VALUE=URI;X-ADDRESS=Rudarska cesta 1\, Velenje\
 , Slovenia;X-APPLE-RADIUS=100;X-TITLE=Hotel PAKA:geo:0,0
END:VEVENT
BEGIN:VTIMEZONE
TZID:Europe/Ljubljana
X-LIC-LOCATION:Europe/Ljubljana
BEGIN:DAYLIGHT
DTSTART:20250330T030000
TZOFFSETFROM:+0100
TZOFFSETTO:+0200
TZNAME:CEST
END:DAYLIGHT
END:VTIMEZONE
END:VCALENDAR