BEGIN:VCALENDAR
VERSION:2.0
PRODID:-//wp-events-plugin.com//7.2.3.1//EN
TZID:Europe/Ljubljana
X-WR-TIMEZONE:Europe/Ljubljana
BEGIN:VEVENT
UID:108@ezs-zveza.si
DTSTART;TZID=Europe/Ljubljana;VALUE=DATE:20251021
DTEND;TZID=Europe/Ljubljana;VALUE=DATE:20251023
DTSTAMP:20251017T060548Z
URL:https://www.ezs-zveza.si/dogodek/preverjanje-varnosti-hranilnikov-elek
 tricne-energije-delavnica-s-predavanji-primeri-iz-prakse-in-prakticnim-pri
 kazom/
SUMMARY:Preverjanje varnosti hranilnikov električne energije: delavnica s 
 predavanji\, primeri iz prakse in praktičnim prikazom
DESCRIPTION:Sporočamo\, da so vsa mesta na delavnici zasedena.\nO delavnic
 i\nEvropa je že pred časom sprejela strategijo\, ki stremi k razvoju pam
 etnejšega in okolju prijaznejšega gospodarstva\, ki bo hitro in trajnost
 no raslo. Eden izmed zadanih ciljev je bil tudi čim večja samooskrba z e
 lektrično energijo (sonce\, voda\, veter)\, ki ne bo odvisna od fosilnih 
 goriv. Razvoj področja samooskrbe je privedel do velikega porasta vnosa e
 lektrične energije v omrežje. Povečano povpraševanje po električni en
 ergiji in cene elektrike so prinesle nove načine za nadzor električne en
 ergije v domovih/stavbah\, in sicer z uporabo hranilnikov električne ener
 gije\, ki so od 2024 obvezni po Zakon o uvajanju naprav za proizvodnjo ele
 ktrične energije iz obnovljivih virov energije (ZUNPEOVE) in Uredbi o pod
 robnejših pravilih urejanja prostora za umeščanje fotonapetostnih napra
 v in sprejemnikov sončne energije.\n\nHranilniki omogočajo optimizacijo 
 električne energije na naslednje načine:\n\n 	Shranjevanje presežne ene
 rgije\n 	Poraba energije v času povečane tarife\n 	Odpornost proti izpad
 om električne energije\n 	Zmanjšanje obremenitve omrežja\n\nPri postavi
 tvi hranilnikov električne energije se moramo zavedati\, da gre tukaj za 
 proces vnosa in hranjenja električne energije iz drugega zunanjega vira v
  objekt. Kar pomeni\, da je tudi tukaj treba upoštevati razloge\, ki bodo
  zagotavljali električno varnost.\n\nPoleg pridobitve dovoljenja za names
 titev fotonapetostne elektrarne je izredno pomemben tudi sam proces do kon
 čne priključitve na omrežje in pravilno vzdrževanje po priključitvi. 
 Treba je upoštevati\, da bi morali biti v proces inštalacije/namestitve 
 vključeni 4 udeleženci:\n\n 	Projektant\, ki pripravi ustrezno in pravil
 no projektno dokumentacijo\n 	Izvajalec\, ki pravilno izvede inštalacijo 
 in povezave v skladu s projektno dokumentacijo\n 	Nadzornik\, ki nadzoruje
 \, da je bilo delo pravilno izvedeno\n 	Preglednik\, ki preveri ustreznost
  tehnoloških rešitev po veljavni zakonodaji.\n\nNa tem mestu ne smemo po
 zabiti\, da je izrednega pomena tudi protipožarna zaščita in vzdrževan
 je po priključitvi.\n\nKo je hranilnik električne energije priključen n
 a omrežje\, zanj v celoti odgovarja lastnik. Se pravi\, da mora osebno (a
 li imenovan skrbnik) spremljati delovanje in stanje ter poskrbeti za preve
 ntivne ukrepe in preglede. Lastnik nosi škodno odgovornost za premoženje
  iz vira električne energije.\n\nV praksi se vedno ne upošteva pravilnih
  postopkov postavitve in priključitve\, prav tako pa nimajo vsi\, ki sode
 lujejo v procesu namestitve\, ustreznih znanj oziroma izpustijo določene 
 faze del. V nekaterih državah je to rešeno z uvedbo strokovnih kompetenc
  za izvajalce montažerje\, preglednike\, vzdrževalce/skrbnike.\n\nZa kva
 litetno izvedeno in varno namestitev je treba tudi tukaj upoštevati 5 zla
 tih pravil\, kar pomeni\, da je treba izvesti namestitev skladno z zakonod
 ajo\, smernicama in ustreznimi standardi.\n\n&nbsp\;\nKomu je delavnica na
 menjena?\nDelavnica je namenjena vsem\, ki sodelujejo v postopku postavitv
 e hranilnikov električnih naprav in naprav do priključitve v omrežje in
  vzdrževalcem:\n\n 	Izvajalcem del\,\n 	Montažerjem\,\n 	Projektantom\,\
 n 	Preglednikom\,\n 	Skrbnikom\,\n 	Vzdrževalcem\,\n\nPoleg zgoraj našte
 tih je delavnica namenjena še:\n\n 	Elektro sekciji pri OZS\n 	Sekciji EU
 RELECTRIC pri Energetski zbornici Slovenije\n 	Zbornici elektroindustrije 
 pri GZS\n 	Delovni inšpekciji\n 	Tržnem inšpektoratu\n 	Inšpekcijskim 
 organom za področje elektroenergetike\n 	Gradbeni inšpekciji\n 	Distribu
 cijskim podjetjem oz. SODO\n 	Predstavnikom zavarovalnic: zavarovalni agen
 ti\, cenilci škodnih primerov\n 	SZPV\n\nPooblaščeni in nadzorni inžen
 irji za udeležbo na strokovnem usposabljanju pridobijo 5 kreditnih točk 
 iz izbirnih vsebin skladno s Splošnim aktom o stalnem poklicnem usposablj
 anju pooblaščenih inženirjev.\nProgram delavnice\n1. dan: Predavanja (P
 odzemlje Pece\, Mežica)\n\n\n\n9.00 – 9.30\nPrihod udeležencev\n\n\n9.
 30\nPozdrav udeležencev s strani organizatorja\n\n\n9.30 – 12.30\n1. de
 l: PRAVNA PODLAGA\n\n1. Zorec\, Andrej: Zakonodaja\, Priporočila IZS za h
 ranilnike (9.30 – 11.00)\n2. Meža\, Boštjan: Predstavitev standardov z
 a preverjanje hranilnikov\, SONDSEE priporočila (11.00 – 12.30)\n\n\n12
 .30 – 13.10\nGLAVNI ODMOR\n\n\n12.20 – 13.20\n2. del: PROTIPOŽARNA ZA
 ŠČITA\n1. Kušar\, Gregor: Priporočila za zaščito pred požarom za hr
 anilnike (13.10 – 13.40)\n2. Vodušek\, Beno: Ukrepi ob intervenciji (13
 .40-14.10)\n\n\n14.15 – 15.45\n3. del: OD PROJEKTA DO IZVEDBE\n\n1. Vipt
 ronik in TAB: Načrtovanje\, postavitev in preverjanje industrijskega hran
 ilnika (predstavitev konkretnega primera)\n(14.15 – 15.15)\n2. mag. Kram
 aršek\, Tomislav: Postopek priključitve hranilnikov in njihov vpliv na d
 istribucijsko omrežje (15.15 – 15.45)\n\n\n15.45 – 16.00\nODMOR\n\n\n
 16.00 – 17.30\n4. del: DOBRA PRAKSA (IN OPOZORILA NA PRIMERE SLABE PRAKS
 E)\n1. Navotnik\, Matic: Interna priporočila TAB (16.00 – 16.30)\n2. Ip
 avec\, Janez: Priporočila SCHRACK (16.30 – 17.00)\n3. Mlasko\, Andrej: 
 Praktične izkušnje ob montaži hranilnikov v Sloveniji in v tujini (+ tr
 endi iz sejma Intersolar 2025) (17.00 – 17.30)\n\n\n17.30 – 18.00\n5. 
 del: VPRAŠANJA IN ODGOVORI\n\n\n\n2. dan: Prikaz praktičnih meritev (TAB
 \, Prevalje)\n\n\n\n8.30 – 9.00\nPrihod udeležencev\n\n\n9.00 – 10.45
 \n1. del: MERITVE NA HRANILNIKIH\na. Meritve izolacijske upornosti pod nap
 etostjo\nb. Meritve notranje upornosti hranilnikov\nc. Meritve off-grid (D
 C in AC posnetek prehoda na otočno obratovanje\, razsmernik za hišni hra
 nilnik)\nd. Meritve kakovosti električne energije (Power Quality)\ne. Ana
 liza in prikaz v računalniškem programu\nPrikaz meritev bo potekal v sku
 pinah.\n\n\n10.50 – 11.30\n2. del: PRIKAZ GAŠENJA HRANILNIKOV\n\n\n11.3
 0 – 12.00\n3. del: VPRAŠANJA IN ODGOVORI\n\n\n\nKotizacija\nKotizacija 
 za podjetja/s.p.\, ki imajo v shemi eTest včlanjenega vsaj enega zaposlen
 ega (in imajo poravnano članarino) in/ali so člani OZS:\n352\,00 € + 2
 2% DDV\, skupaj za plačilo 429\,44 €\n\nKotizacija za ostale:\n440\,00 
 € + 22% DDV\, skupaj za plačilo  536\,80 €\n\nPlačilo na transakcijs
 ki račun EZS: 02010-0011333543. Račun je odprt pri NLB.\nDodatne informa
 cije\n• v pisarni EZS\, pri Katarini Seliger\, tel.: 01 5113 000\, e-po
 šta: info@etest.si ali katarina.seliger@ezs-zveza.si\n• generalnem sekr
 etarju EZS\, mag. Rudiju Zorku\, tel.: 041 616 771\, e-pošta: rudi.zorko@
 ezs-zveza.si\nVprašanja za razpravo\nVprašanja bo možno postavljati na 
 sami delavnici\, vendar prosimo\, da za lažjo pripravo razprave pošljete
  vprašanja\, katera bi radi obravnavali na delavnici\, po e-pošti na inf
 o@etest.si najkasneje 4 dni pred začetkom delavnice.\n\nPriporočljivo je
 \, da pošljete vprašanja že ob sami prijavi na delavnico. Tako boste do
 bili kvalitetnejše odgovore. 
ATTACH;FMTTYPE=image/jpeg:https://www.ezs-zveza.si/wp-content/uploads/2025
 /09/IMG_7631.jpg
CATEGORIES:EZS akademija
LOCATION:Podzemlje Pece\, Glančnik 8\, Mežica \, 2392 \, Slovenia
X-APPLE-STRUCTURED-LOCATION;VALUE=URI;X-ADDRESS=Glančnik 8\, Mežica \, 23
 92 \, Slovenia;X-APPLE-RADIUS=100;X-TITLE=Podzemlje Pece:geo:0,0
END:VEVENT
BEGIN:VTIMEZONE
TZID:Europe/Ljubljana
X-LIC-LOCATION:Europe/Ljubljana
BEGIN:DAYLIGHT
DTSTART:20250330T030000
TZOFFSETFROM:+0100
TZOFFSETTO:+0200
TZNAME:CEST
END:DAYLIGHT
END:VTIMEZONE
END:VCALENDAR