BEGIN:VCALENDAR
VERSION:2.0
PRODID:-//wp-events-plugin.com//7.2.3.1//EN
TZID:Europe/Ljubljana
X-WR-TIMEZONE:Europe/Ljubljana
BEGIN:VEVENT
UID:109@ezs-zveza.si
DTSTART;TZID=Europe/Ljubljana:20251127T100000
DTEND;TZID=Europe/Ljubljana:20251127T140000
DTSTAMP:20251104T120111Z
URL:https://www.ezs-zveza.si/dogodek/prakticni-vidiki-standarda-sist-en-60
 204-12018-varnost-strojev-elektricna-oprema-strojev-1-del-splosne-zahteve/
SUMMARY:Praktični vidiki standarda SIST EN 60204-1:2018\, Varnost strojev 
 – Električna oprema strojev – 1. del: Splošne zahteve
DESCRIPTION:\nVabimo vas k udeležbi na spletnem seminarju\, ki ga prirejam
 o EZS in SIST v četrtek 27. novembra od 10.00 do 14.00 ure.\n\n\n\n\nVabi
 lo s prijavnico\n\n\n\n\nElektronska prijava\n&nbsp\;\nUvod\n\n\n\nElektri
 čna oprema mora biti varna in pravilno delovati tako v času\, ko je izde
 lana in se pričenja tržiti\, kot tudi v celotni svoji uporabni dobi\, pr
 av tako po popravilih ali drugih posegih vanjo.\nZa proizvajalca to pomeni
 \, da mora preveriti pravilnost razvoja in konstrukcije nove opreme\, kar 
 potrdi preizkus tipa. V proizvodnji je treba opraviti preizkus vsakega kos
 a izdelane opreme\, gre za preizkušanje v seriji\, rutinski ali kosovni p
 reizkus.\nV obdobju uporabe se oprema lahko pokvari ali pride do predelave
  in/ali drugih posegov vanjo\, pri tem je treba marsikdaj zaradi dostopa d
 oločene varnostne ukrepe prilagoditi. Lahko se zgodi\, da je treba zamenj
 ati sestavni del\, ki vpliva na varnost opreme\, ali pa se pri posegu neho
 te posega še v vgrajene varnostne ukrepe in po ponovni sestavi se utegne 
 zgoditi\, da oprema ni varna\, kot je bila po proizvodnji.\nDoločeni sest
 avni deli\, izolacijski materiali so lahko bolj ali manj podvrženi staran
 ju in so zato varnostni ukrepi slabši\, kot so bili ob vgrajevanju v novo
  opremo. Na določenih področjih\, kjer je varnost pri delu še posebej p
 omembna\, je treba redno preverjati stanje (električne) varnosti opreme. 
 Zgoraj omenjena evropska standarda pokrivata s tem področja\, katerih nek
 ateri osnovni standardi skupin izdelkov ne pokrivajo dovolj.\nUdeleženci 
 bodo imeli 30 % popusta pri nakupu standarda SIST EN 60204-1:2018.\n\n\n\n
 Seminar je namenjen:\n\n\n\n\n\nOsebam\, ki imajo opravka s popravili in p
 reverjanjem električne opreme:\n- proizvajalci\,- vzdrževalci\,- servise
 rji\,- pregledniki\,- druge osebe\, katerih skrb je pravilno delovanje in 
 uporaba električne opreme\, vsekakor tudi njihovim nadrejenim.\n\n\n\n\n\
 nKaj boste pridobili z udeležbo?\n\n\n\nZ udeležbo boste pridobili osnov
 e v zvezi z namenom obeh standardov\, izrazjem in področji\, ki jih pokri
 vata\, seznanjeni pa boste tudi z osnovami za izvedbo posameznih preizkuso
 v in meritev. Težišče bodo priprave in pristop k preverjanju varnosti\,
  izbira pravih virov\, ocena potrebnih preizkusov in parametrov\, dodatno 
 pa bo podano preverjanje električne varnosti oziroma varnosti električne
  opreme po obeh standardih. Predstavljeni bodo tudi razlogi za dokumentira
 nje.\n\n\n\nUdeleženci bodo imeli 30 % popusta pri nakupu standarda SIST 
 EN 60204-1:2018.\nUdeleženci lahko do 17. novembra 2025 pripravijo in po
 šljejo vprašanja v zvezi s temo seminarja na seminarji@sist.si.\n\n\n\nP
 rogram\n\n\n\n\n\n\n\n10.00\nPozdrav organizatorja\n\n\n10.00 - 10.30\n\nU
 vodni del\n\nkratka predstavitev\nvarnost strojev\nnamen standarda SIST EN
  60204-1\n\n\n\n\n10.30 – 10.45\n\nRazvoj standardov\, razlike\n\nnovi d
 okumenti v pripravi\nrazlike glede na 5. izdajo\nvpliv harmonizacije EU\n\
 n\n\n\n10.45 – 11.20\n\nNekatera poglavja SIST EN 60204-1\, prvi del\n\n
 zveza s standardi\ndefinicije\nzahteve\ntehnična dokumentacija\n\n\n\n\n1
 1.20 - 11.25\nOdmor\n\n\n11.25 – 12.05\n\nNekatera poglavja SIST EN 6020
 4-1\, drugi del\n\npriključki\nzaščite\nkrmilni tokokrogi\n\n\n\n\n12.0
 5 – 12.35\n\nNekatera poglavja SIST EN 60204-1\, tretji del\n\nvmesnik u
 pravljavca\noznačevanje\nsestavni deli\n\n\n\n\n12.35 – 12.40\nOdmor\n\
 n\n11.45 - 13.15\n\nNekatera poglavja SIST EN 60204-1\, četrti del\n\npre
 verjanje\n\nZahteve pravilnikov in smernice za nizkonapetostne električne
  inštalacije in zaščita pred strelo v povezavi s stroji\n\n\n13.45 - 14
 .00\nVprašanja in odgovori\n\n\n\n\n\n\n\n\nVabilo s prijavnico\n\n\n\n\n
 Elektronska prijava\n&nbsp\;\nIzvajalec\n\n\n\n\n\nmag. Bogdan Seliger\n\n
 \n\nMag. Bogdan Seliger je bil do upokojitve zaposlen v podjetju METREL d.
  d\, kjer je med drugim opravljal tudi svetovanja in ostale dejavnosti na 
 področju elektromagnetne združljivosti\, varnosti\, uporabe standardov\,
  zahtev direktiv. V ta namen je član in vodi SIST/TC MOV\, je tudi dolgol
 etni član SIST/TC EMC. V okviru EZS je sodeloval pri pripravi pravilnikov
  in smernic za varnost nizkonapetostnih inštalacij ter za zaščito pred 
 strelo\, sodeloval je tudi z IZS.\n\n\n\n\nVabilo s prijavnico\n\n\n\n\nEl
 ektronska prijava\n&nbsp\;\nČlani EZS imate pri prijavi 20% popusta pri k
 otizaciji.Ponujamo tudi 30 % popusta za podjetja\, ki prijavijo več kot d
 va zaposlena.\nUdeleženci bodo imeli 30 % popusta pri nakupu standarda SI
 ST EN 60204-1:2018.\n
ATTACH;FMTTYPE=image/jpeg:https://www.ezs-zveza.si/wp-content/uploads/2025
 /11/drilling-machine-1038542_1280.jpg
CATEGORIES:EZS akademija
END:VEVENT
BEGIN:VTIMEZONE
TZID:Europe/Ljubljana
X-LIC-LOCATION:Europe/Ljubljana
BEGIN:STANDARD
DTSTART:20251026T020000
TZOFFSETFROM:+0200
TZOFFSETTO:+0100
TZNAME:CET
END:STANDARD
END:VTIMEZONE
END:VCALENDAR