BEGIN:VCALENDAR
VERSION:2.0
PRODID:-//wp-events-plugin.com//7.2.3.1//EN
TZID:Europe/Ljubljana
X-WR-TIMEZONE:Europe/Ljubljana
BEGIN:VEVENT
UID:104@ezs-zveza.si
DTSTART;TZID=Europe/Ljubljana:20250529T000000
DTEND;TZID=Europe/Ljubljana:20250530T000000
DTSTAMP:20250506T100650Z
URL:https://www.ezs-zveza.si/dogodek/jubilejna-40-delavnica-o-telekomunika
 cijah-vitel/
SUMMARY:Jubilejna 40. delavnica o telekomunikacijah Vitel
DESCRIPTION:Slovensko društvo za elektronske komunikacije vabi k udeležbi
  na jubilejni 40. delavnici VITEL 2025\, ki bo 29. in 30. maja 2025 v park
 u Šobec. Tema letošnje delavnice je “Digitalna suverenost”.\n\n\n\nP
 odrobnosti dogodka (vključno s prijavo) so dostopne na spletni strani VIT
 EL 2025.
ATTACH;FMTTYPE=image/jpeg:https://www.ezs-zveza.si/wp-content/uploads/2025
 /05/vitel_logo_objava.jpg
CATEGORIES:Konference
LOCATION:Kamp in park Šobec\, Šobčeva cesta 29\, Lesce\, 4248\, Slovenia
X-APPLE-STRUCTURED-LOCATION;VALUE=URI;X-ADDRESS=Šobčeva cesta 29\, Lesce\
 , 4248\, Slovenia;X-APPLE-RADIUS=100;X-TITLE=Kamp in park Šobec:geo:0,0
END:VEVENT
BEGIN:VTIMEZONE
TZID:Europe/Ljubljana
X-LIC-LOCATION:Europe/Ljubljana
BEGIN:DAYLIGHT
DTSTART:20250330T030000
TZOFFSETFROM:+0100
TZOFFSETTO:+0200
TZNAME:CEST
END:DAYLIGHT
END:VTIMEZONE
END:VCALENDAR